BEGIN:VCALENDAR
VERSION:2.0
PRODID:-//WSSYSA.ORG - ECPv6.1.4//NONSGML v1.0//EN
CALSCALE:GREGORIAN
METHOD:PUBLISH
X-WR-CALNAME:WSSYSA.ORG
X-ORIGINAL-URL:https://www.wssysa.org
X-WR-CALDESC:Events for WSSYSA.ORG
REFRESH-INTERVAL;VALUE=DURATION:PT1H
X-Robots-Tag:noindex
X-PUBLISHED-TTL:PT1H
BEGIN:VTIMEZONE
TZID:Europe/London
BEGIN:DAYLIGHT
TZOFFSETFROM:+0000
TZOFFSETTO:+0100
TZNAME:BST
DTSTART:20170326T010000
END:DAYLIGHT
BEGIN:STANDARD
TZOFFSETFROM:+0100
TZOFFSETTO:+0000
TZNAME:GMT
DTSTART:20171029T010000
END:STANDARD
BEGIN:DAYLIGHT
TZOFFSETFROM:+0000
TZOFFSETTO:+0100
TZNAME:BST
DTSTART:20180325T010000
END:DAYLIGHT
BEGIN:STANDARD
TZOFFSETFROM:+0100
TZOFFSETTO:+0000
TZNAME:GMT
DTSTART:20181028T010000
END:STANDARD
BEGIN:DAYLIGHT
TZOFFSETFROM:+0000
TZOFFSETTO:+0100
TZNAME:BST
DTSTART:20190331T010000
END:DAYLIGHT
BEGIN:STANDARD
TZOFFSETFROM:+0100
TZOFFSETTO:+0000
TZNAME:GMT
DTSTART:20191027T010000
END:STANDARD
BEGIN:DAYLIGHT
TZOFFSETFROM:+0000
TZOFFSETTO:+0100
TZNAME:BST
DTSTART:20200329T010000
END:DAYLIGHT
BEGIN:STANDARD
TZOFFSETFROM:+0100
TZOFFSETTO:+0000
TZNAME:GMT
DTSTART:20201025T010000
END:STANDARD
BEGIN:DAYLIGHT
TZOFFSETFROM:+0000
TZOFFSETTO:+0100
TZNAME:BST
DTSTART:20210328T010000
END:DAYLIGHT
BEGIN:STANDARD
TZOFFSETFROM:+0100
TZOFFSETTO:+0000
TZNAME:GMT
DTSTART:20211031T010000
END:STANDARD
BEGIN:DAYLIGHT
TZOFFSETFROM:+0000
TZOFFSETTO:+0100
TZNAME:BST
DTSTART:20220327T010000
END:DAYLIGHT
BEGIN:STANDARD
TZOFFSETFROM:+0100
TZOFFSETTO:+0000
TZNAME:GMT
DTSTART:20221030T010000
END:STANDARD
BEGIN:DAYLIGHT
TZOFFSETFROM:+0000
TZOFFSETTO:+0100
TZNAME:BST
DTSTART:20230326T010000
END:DAYLIGHT
BEGIN:STANDARD
TZOFFSETFROM:+0100
TZOFFSETTO:+0000
TZNAME:GMT
DTSTART:20231029T010000
END:STANDARD
END:VTIMEZONE
BEGIN:VEVENT
DTSTART;VALUE=DATE:20230902
DTEND;VALUE=DATE:20230904
DTSTAMP:20260425T114106
CREATED:20230814T183451Z
LAST-MODIFIED:20230814T183451Z
UID:2043-1693612800-1693785599@www.wssysa.org
SUMMARY:WSSYSA 2023 Regatta
DESCRIPTION:See here for more information\nItchenor Sailing Club : WSSYSA Regatta (itchenorsc.co.uk) \nShare this:Click to share on Facebook (Opens in new window)Click to share on Twitter (Opens in new window)Click to email a link to a friend (Opens in new window)Click to print (Opens in new window)
URL:https://www.wssysa.org/event/wssysa-2023-regatta/
LOCATION:Itchenor Sailing Club\, Itchenor\, West Sussex\, PO20 7AG\, United Kingdom
CATEGORIES:Regatta
END:VEVENT
BEGIN:VEVENT
DTSTART;VALUE=DATE:20220917
DTEND;VALUE=DATE:20220919
DTSTAMP:20260425T114106
CREATED:20220426T183035Z
LAST-MODIFIED:20220426T183845Z
UID:2031-1663372800-1663545599@www.wssysa.org
SUMMARY:WSSYSA Annual Regatta 2022
DESCRIPTION:The WSSYSA Regatta is back! \nThis year’s event will be hosted by Worthing Sailing Club and will follow the usual format of several race fleets\, to cater for all speeds of dinghy\, plus a regatta fleet for first time competitors. \nThe upper age limit will also be uplifted to allow sailors who missed out on the event during the pandemic a chance to represent their club. \nFull details to follow\, but make a note in your diary now and get practising – it’s going to be a cracker! \n  \nShare this:Click to share on Facebook (Opens in new window)Click to share on Twitter (Opens in new window)Click to email a link to a friend (Opens in new window)Click to print (Opens in new window)
URL:https://www.wssysa.org/event/wssysa-annual-regatta-2022/
LOCATION:Worthing Sailing Club\, Worthing\, West Sussex\, BN12 4JE\, United Kingdom
END:VEVENT
BEGIN:VEVENT
DTSTART;VALUE=DATE:20210911
DTEND;VALUE=DATE:20210913
DTSTAMP:20260425T114106
CREATED:20201022T211628Z
LAST-MODIFIED:20201022T211628Z
UID:2022-1631318400-1631491199@www.wssysa.org
SUMMARY:WSSYSA Annual Regatta 2021
DESCRIPTION:Share this:Click to share on Facebook (Opens in new window)Click to share on Twitter (Opens in new window)Click to email a link to a friend (Opens in new window)Click to print (Opens in new window)
URL:https://www.wssysa.org/event/wssysa-annual-regatta-2021/
LOCATION:Cobnor Activities Centre Trust\, Cobnor Point\, Chidham\, Chichester\, West Sussex\, PO18 8TE\, United Kingdom
END:VEVENT
BEGIN:VEVENT
DTSTART;VALUE=DATE:20210726
DTEND;VALUE=DATE:20210731
DTSTAMP:20260425T114106
CREATED:20201022T211840Z
LAST-MODIFIED:20201022T211840Z
UID:2024-1627257600-1627689599@www.wssysa.org
SUMMARY:NSSA National Youth Regatta
DESCRIPTION:Share this:Click to share on Facebook (Opens in new window)Click to share on Twitter (Opens in new window)Click to email a link to a friend (Opens in new window)Click to print (Opens in new window)
URL:https://www.wssysa.org/event/nssa-national-youth-regatta/
LOCATION:Plymouth Youth Sailing Centre\, Plymouth Mount Batten Centre\, 70 Lawrence Road\, Mount Batten\, Plymouth\, PL9 9SJ\, United Kingdom
END:VEVENT
BEGIN:VEVENT
DTSTART;TZID=Europe/London:20201013T193000
DTEND;TZID=Europe/London:20201013T210000
DTSTAMP:20260425T114106
CREATED:20200816T184110Z
LAST-MODIFIED:20200816T184110Z
UID:2019-1602617400-1602622800@www.wssysa.org
SUMMARY:WSSYSA 2020 AGM
DESCRIPTION:WSSYSA Executive Committee members and affiliated club representatives are cordially invited to attend the Association’s Annual General Meeting\, which will be held virtually (via Zoom) on Tuesday\, 13th October\, starting at 7.30 pm. The meeting will include a round-up of news and events from Steve Mitchell\, RYA Thames and South East RDO. \nShare this:Click to share on Facebook (Opens in new window)Click to share on Twitter (Opens in new window)Click to email a link to a friend (Opens in new window)Click to print (Opens in new window)
URL:https://www.wssysa.org/event/wssysa-2020-agm/
LOCATION:West Sussex
END:VEVENT
BEGIN:VEVENT
DTSTART;VALUE=DATE:20200919
DTEND;VALUE=DATE:20200921
DTSTAMP:20260425T114106
CREATED:20190917T200123Z
LAST-MODIFIED:20200728T080804Z
UID:1918-1600473600-1600646399@www.wssysa.org
SUMMARY:WSSYSA Annual Regatta - CANCELLED
DESCRIPTION:Share this:Click to share on Facebook (Opens in new window)Click to share on Twitter (Opens in new window)Click to email a link to a friend (Opens in new window)Click to print (Opens in new window)
URL:https://www.wssysa.org/event/wssysa-annual-regatta-2/
LOCATION:Cobnor Activities Centre Trust\, Cobnor Point\, Chidham\, Chichester\, West Sussex\, PO18 8TE\, United Kingdom
END:VEVENT
BEGIN:VEVENT
DTSTART;VALUE=DATE:20200725
DTEND;VALUE=DATE:20200801
DTSTAMP:20260425T114106
CREATED:20200127T162858Z
LAST-MODIFIED:20200804T144730Z
UID:1982-1595635200-1596239999@www.wssysa.org
SUMMARY:NSSA Youth Sailing Regatta 2020 - CANCELLED
DESCRIPTION:Share this:Click to share on Facebook (Opens in new window)Click to share on Twitter (Opens in new window)Click to email a link to a friend (Opens in new window)Click to print (Opens in new window)
URL:https://www.wssysa.org/event/nssa-youth-sailing-regatta-2020/
LOCATION:Plymouth Youth Sailing Centre\, Plymouth Mount Batten Centre\, 70 Lawrence Road\, Mount Batten\, Plymouth\, PL9 9SJ\, United Kingdom
CATEGORIES:Regatta
END:VEVENT
BEGIN:VEVENT
DTSTART;TZID=Europe/London:20191008T193000
DTEND;TZID=Europe/London:20191008T210000
DTSTAMP:20260425T114106
CREATED:20181011T113341Z
LAST-MODIFIED:20190818T190025Z
UID:1768-1570563000-1570568400@www.wssysa.org
SUMMARY:WSSYSA Annual General Meeting
DESCRIPTION:Share this:Click to share on Facebook (Opens in new window)Click to share on Twitter (Opens in new window)Click to email a link to a friend (Opens in new window)Click to print (Opens in new window)
URL:https://www.wssysa.org/event/wssysa-annual-general-meeting-2/
LOCATION:To be confirmed\, The Quay\, Bosham\, West Sussex\, PO18 8LU\, United Kingdom
END:VEVENT
BEGIN:VEVENT
DTSTART;VALUE=DATE:20190907
DTEND;VALUE=DATE:20190909
DTSTAMP:20260425T114106
CREATED:20190305T104935Z
LAST-MODIFIED:20190818T185710Z
UID:1830-1567814400-1567987199@www.wssysa.org
SUMMARY:WSSYSA Annual Regatta
DESCRIPTION:For full event details\, please go to the separate event page here \nShare this:Click to share on Facebook (Opens in new window)Click to share on Twitter (Opens in new window)Click to email a link to a friend (Opens in new window)Click to print (Opens in new window)
URL:https://www.wssysa.org/event/wssysa-annual-regatta/
LOCATION:Felpham Sailing Club\, Blakes Road\, Felpham\, West Sussex\, PO22 7EE\, United Kingdom
END:VEVENT
BEGIN:VEVENT
DTSTART;VALUE=DATE:20190825
DTEND;VALUE=DATE:20190826
DTSTAMP:20260425T114106
CREATED:20190319T101849Z
LAST-MODIFIED:20190818T184620Z
UID:1860-1566691200-1566777599@www.wssysa.org
SUMMARY:Open Dinghy Regatta\, Arun YC
DESCRIPTION:An ideal practice regatta prior to the WSSYSA regatta in September. The event is open to all ages and all monohull dinghies with a PY number\, with individual registrations on the day. Four races planned \nThe NoR is here \nThe SIs are here \nWe look forward to seeing you! \nShare this:Click to share on Facebook (Opens in new window)Click to share on Twitter (Opens in new window)Click to email a link to a friend (Opens in new window)Click to print (Opens in new window)
URL:https://www.wssysa.org/event/open-dinghy-regatta-arun-yc/
LOCATION:Arun Yacht Club\, Riverside West\, Littlehampton\, West Sussex\, BN17 5DL\, United Kingdom
END:VEVENT
BEGIN:VEVENT
DTSTART;VALUE=DATE:20190724
DTEND;VALUE=DATE:20190728
DTSTAMP:20260425T114106
CREATED:20181206T214244Z
LAST-MODIFIED:20181206T214510Z
UID:1822-1563926400-1564271999@www.wssysa.org
SUMMARY:Felpham Youth Week
DESCRIPTION:WSSYSA strongly encourages sailors from member clubs to support the now well-established youth sailing week provided by Felpham SC. For further details\, please visit the club website. \nShare this:Click to share on Facebook (Opens in new window)Click to share on Twitter (Opens in new window)Click to email a link to a friend (Opens in new window)Click to print (Opens in new window)
URL:https://www.wssysa.org/event/youth-week/
LOCATION:Felpham Sailing Club\, Blakes Road\, Felpham\, West Sussex\, PO22 7EE\, United Kingdom
CATEGORIES:Regatta
END:VEVENT
BEGIN:VEVENT
DTSTART;VALUE=DATE:20190721
DTEND;VALUE=DATE:20190728
DTSTAMP:20260425T114106
CREATED:20181206T212631Z
LAST-MODIFIED:20200127T162223Z
UID:1813-1563667200-1564271999@www.wssysa.org
SUMMARY:NSSA Regatta 2019
DESCRIPTION:The 2019 National School Sailing Association Regatta will take place on 21-27 July at Weymouth and Portland National Sailing Academy. \nAs ever\, WSSYSA intends to send a team to the event to represent out region. Any sailors interested in attending the event to represent our region are strongly encouraged to contact the WSSYSA via this website or through their club WSSYSA representative in order to secure a place on the team. At the same time\, we would be pleased to hear from any adult sailing volunteers who would be interested in attending the event to manage the team during the event. \nFuther event details are available at: https://nssa.org.uk/ \nShare this:Click to share on Facebook (Opens in new window)Click to share on Twitter (Opens in new window)Click to email a link to a friend (Opens in new window)Click to print (Opens in new window)
URL:https://www.wssysa.org/event/nssa-regatta-2/
LOCATION:Weymouth and Portland National Sailing Academy\, Osprey Quay\, Portland\, Dorset\, DT5 1SA\, United Kingdom
CATEGORIES:Regatta
END:VEVENT
BEGIN:VEVENT
DTSTART;VALUE=DATE:20190713
DTEND;VALUE=DATE:20190715
DTSTAMP:20260425T114106
CREATED:20190319T102524Z
LAST-MODIFIED:20190319T102524Z
UID:1862-1562976000-1563148799@www.wssysa.org
SUMMARY:LaserPerformance Super Grand Prix\, Pagham YC
DESCRIPTION:The series comprises two weekends\, one at Blithfield and the other at Pagham. \nPlease see attached Poster for further details \nShare this:Click to share on Facebook (Opens in new window)Click to share on Twitter (Opens in new window)Click to email a link to a friend (Opens in new window)Click to print (Opens in new window)
URL:https://www.wssysa.org/event/laserperformance-super-grand-prix-pagham-yc/
LOCATION:Pagham Yacht Club\, 1\, West Front Road\,\, Pagham\, PO21 4SY\, United Kingdom
END:VEVENT
BEGIN:VEVENT
DTSTART;VALUE=DATE:20190713
DTEND;VALUE=DATE:20190714
DTSTAMP:20260425T114106
CREATED:20190310T212320Z
LAST-MODIFIED:20190310T212320Z
UID:1838-1562976000-1563062399@www.wssysa.org
SUMMARY:South East Topper Open
DESCRIPTION:Share this:Click to share on Facebook (Opens in new window)Click to share on Twitter (Opens in new window)Click to email a link to a friend (Opens in new window)Click to print (Opens in new window)
URL:https://www.wssysa.org/event/south-east-topper-open/
LOCATION:Felpham Sailing Club\, Blakes Road\, Felpham\, West Sussex\, PO22 7EE\, United Kingdom
END:VEVENT
BEGIN:VEVENT
DTSTART;VALUE=DATE:20190630
DTEND;VALUE=DATE:20190706
DTSTAMP:20260425T114106
CREATED:20181206T211649Z
LAST-MODIFIED:20190214T220523Z
UID:1808-1561852800-1562371199@www.wssysa.org
SUMMARY:Itchenor Schools Week
DESCRIPTION:Whereas WSSYSA is not eligible to enter a team to participate in this event\, the Association warmly encourages sailors in our region to consider forming teams to represent their schools at Itchenor Sailing Club’s Schools Week. \nFull details of the event can be found at: http://itchenorsc.co.uk/schoolsweek.html \nShare this:Click to share on Facebook (Opens in new window)Click to share on Twitter (Opens in new window)Click to email a link to a friend (Opens in new window)Click to print (Opens in new window)
URL:https://www.wssysa.org/event/itchenor-schools-week/
LOCATION:Itchenor Sailing Club\, Itchenor\, West Sussex\, PO20 7AG\, United Kingdom
END:VEVENT
BEGIN:VEVENT
DTSTART;VALUE=DATE:20190615
DTEND;VALUE=DATE:20190616
DTSTAMP:20260425T114106
CREATED:20181206T213437Z
LAST-MODIFIED:20190317T222354Z
UID:1817-1560556800-1560643199@www.wssysa.org
SUMMARY:Pagham YC - WSSYSA Open Youth Regatta
DESCRIPTION:A one-day open youth regatta\, tailored to slow-fleet racing (PY 1207 or greater). The event is ideally suited to Topper\, Feva\, Laser 4.7\, Pico\, and Tera entries. \nPlease find the Notice of Race  and Entry form \nShare this:Click to share on Facebook (Opens in new window)Click to share on Twitter (Opens in new window)Click to email a link to a friend (Opens in new window)Click to print (Opens in new window)
URL:https://www.wssysa.org/event/topper-traveller-regatta/
LOCATION:Pagham Yacht Club\, 1\, West Front Road\,\, Pagham\, PO21 4SY\, United Kingdom
CATEGORIES:Regatta,Topper Traveller
END:VEVENT
BEGIN:VEVENT
DTSTART;VALUE=DATE:20190506
DTEND;VALUE=DATE:20190507
DTSTAMP:20260425T114106
CREATED:20181206T213846Z
LAST-MODIFIED:20181206T213908Z
UID:1819-1557100800-1557187199@www.wssysa.org
SUMMARY:Feva Team Racing
DESCRIPTION:WSSYSA is excited to offer member clubs the opportunity to try team racing in Fevas (two boats against two boats)\, with boats provided by the venue. Please look for a separate event page with full details. \nShare this:Click to share on Facebook (Opens in new window)Click to share on Twitter (Opens in new window)Click to email a link to a friend (Opens in new window)Click to print (Opens in new window)
URL:https://www.wssysa.org/event/feva-team-racing/
LOCATION:To be confirmed\, The Quay\, Bosham\, West Sussex\, PO18 8LU\, United Kingdom
END:VEVENT
BEGIN:VEVENT
DTSTART;VALUE=DATE:20190504
DTEND;VALUE=DATE:20190505
DTSTAMP:20260425T114106
CREATED:20190318T110545Z
LAST-MODIFIED:20190318T110545Z
UID:1855-1556928000-1557014399@www.wssysa.org
SUMMARY:Laser Open Regatta\, South East Grand Prix\, Bough Beech
DESCRIPTION:Please see poster for details \nShare this:Click to share on Facebook (Opens in new window)Click to share on Twitter (Opens in new window)Click to email a link to a friend (Opens in new window)Click to print (Opens in new window)
URL:https://www.wssysa.org/event/laser-open-regatta-south-east-grand-prix-bough-beech/
LOCATION:Bough Beech Sailing Club\, Bough Beech Reservoir\, Ide Hill Road\, Edenbridge\, TN8 7PL\, United Kingdom
END:VEVENT
BEGIN:VEVENT
DTSTART;VALUE=DATE:20190414
DTEND;VALUE=DATE:20190415
DTSTAMP:20260425T114106
CREATED:20190318T105742Z
LAST-MODIFIED:20190318T110735Z
UID:1850-1555200000-1555286399@www.wssysa.org
SUMMARY:Laser Open Regatta\, South East Grand Prix\, Weir Wood
DESCRIPTION:Open regatta open to standard\, radial and 4.7 rigs (class legal sails preferred but other correctly sizes sails accepted). Briefing at 10.30am\, then six short races. \nSee poster attached \nShare this:Click to share on Facebook (Opens in new window)Click to share on Twitter (Opens in new window)Click to email a link to a friend (Opens in new window)Click to print (Opens in new window)
URL:https://www.wssysa.org/event/laser-open-regatta/
LOCATION:Weir Wood Sailing Club\, Weir Wood Reservoir\, Weir Wood\, Forest Row\, RH18 5HT\, United Kingdom
CATEGORIES:Regatta
END:VEVENT
BEGIN:VEVENT
DTSTART;TZID=Europe/London:20181204T190000
DTEND;TZID=Europe/London:20181204T210000
DTSTAMP:20260425T114106
CREATED:20181122T142503Z
LAST-MODIFIED:20181124T214607Z
UID:1786-1543950000-1543957200@www.wssysa.org
SUMMARY:Executive Committee Meeting
DESCRIPTION:Share this:Click to share on Facebook (Opens in new window)Click to share on Twitter (Opens in new window)Click to email a link to a friend (Opens in new window)Click to print (Opens in new window)
URL:https://www.wssysa.org/event/executive-committee-meeting/
LOCATION:Arun Yacht Club\, Riverside West\, Littlehampton\, West Sussex\, BN17 5DL\, United Kingdom
END:VEVENT
BEGIN:VEVENT
DTSTART;TZID=Europe/London:20181009T190000
DTEND;TZID=Europe/London:20181009T210000
DTSTAMP:20260425T114106
CREATED:20180911T191608Z
LAST-MODIFIED:20180911T192422Z
UID:1550-1539111600-1539118800@www.wssysa.org
SUMMARY:WSSYSA Annual General Meeting
DESCRIPTION:Share this:Click to share on Facebook (Opens in new window)Click to share on Twitter (Opens in new window)Click to email a link to a friend (Opens in new window)Click to print (Opens in new window)
URL:https://www.wssysa.org/event/wssysa-annual-general-meeting/
LOCATION:To be confirmed\, The Quay\, Bosham\, West Sussex\, PO18 8LU\, United Kingdom
END:VEVENT
BEGIN:VEVENT
DTSTART;VALUE=DATE:20180929
DTEND;VALUE=DATE:20181001
DTSTAMP:20260425T114106
CREATED:20180911T193237Z
LAST-MODIFIED:20180911T210706Z
UID:1553-1538179200-1538351999@www.wssysa.org
SUMMARY:London & South East Region Junior Championships
DESCRIPTION:The RYA Zone Programme explained. \nWe have changed the name of the Zone Championships to try to truly reflect the nature of the event to British Youth Sailing Regional Junior Championships. At this event we will be running three fleets\, Championship Fleet\, Coached Regatta Fleet and Fun OnBoard Fleet. The event as a whole is a festival for all junior sailors who are learning to sail in club boats\, through to squad sailors in Recognised Junior Classes. With the three different fleets there should be something for your level of sailing. Along with prizes for event winners\, there will be a range of prizes for sailors exhibiting the British Youth Sailing Values and Behaviours and showing a passion for the sport. There is also the Club Trophy for the club that has the most entries at the event. \nClasses – Optimist\, Topper\, Windsurfers\, RS Feva XL\, RS Tera (Sport Rig)\, Regatta Fleet\, OnBoard Fleet \nTo enter the event please go to http://www.rya.org.uk/racing-events/Pages/hub.aspx \nShare this:Click to share on Facebook (Opens in new window)Click to share on Twitter (Opens in new window)Click to email a link to a friend (Opens in new window)Click to print (Opens in new window)
URL:https://www.wssysa.org/event/london-south-east-region-junior-championships/
LOCATION:Queen Mary Sailing Club\, Queen Mary Reservoir\, Ashford Rd\, Ashford\, Queen Mary RTW15 1UA\, United Kingdom
END:VEVENT
BEGIN:VEVENT
DTSTART;VALUE=DATE:20180908
DTEND;VALUE=DATE:20180910
DTSTAMP:20260425T114106
CREATED:20180411T114924Z
LAST-MODIFIED:20180713T165357Z
UID:1323-1536364800-1536537599@www.wssysa.org
SUMMARY:WSSYSA Regatta 2018 - Cobnor
DESCRIPTION:Notice of Race: WSSYSA Regatta 2018 NoR \nSailing Instructions: WSSYSA Regatta 2018 SIs \nShare this:Click to share on Facebook (Opens in new window)Click to share on Twitter (Opens in new window)Click to email a link to a friend (Opens in new window)Click to print (Opens in new window)
URL:https://www.wssysa.org/event/wssysa-regatta-2018/
LOCATION:Cobnor Activities Centre Trust\, Cobnor Point\, Chidham\, Chichester\, West Sussex\, PO18 8TE\, United Kingdom
CATEGORIES:Regatta
END:VEVENT
BEGIN:VEVENT
DTSTART;VALUE=DATE:20180811
DTEND;VALUE=DATE:20180812
DTSTAMP:20260425T114106
CREATED:20180411T114816Z
LAST-MODIFIED:20180429T180941Z
UID:1320-1533945600-1534031999@www.wssysa.org
SUMMARY:WSSYSA Topper Traveller #6 - Pagham
DESCRIPTION:Share this:Click to share on Facebook (Opens in new window)Click to share on Twitter (Opens in new window)Click to email a link to a friend (Opens in new window)Click to print (Opens in new window)
URL:https://www.wssysa.org/event/wssysa-topper-traveller-6/
LOCATION:Pagham Yacht Club\, 1\, West Front Road\,\, Pagham\, PO21 4SY\, United Kingdom
CATEGORIES:Topper Traveller
END:VEVENT
BEGIN:VEVENT
DTSTART;VALUE=DATE:20180805
DTEND;VALUE=DATE:20180806
DTSTAMP:20260425T114106
CREATED:20180411T114359Z
LAST-MODIFIED:20180710T113651Z
UID:1318-1533427200-1533513599@www.wssysa.org
SUMMARY:WSSYSA Topper Traveller #5 - Arun
DESCRIPTION:Notice of Race & Sailing Instructions: http://arunyc.co.uk/whats-on/open-meetings-at-ayc/ \n  \nShare this:Click to share on Facebook (Opens in new window)Click to share on Twitter (Opens in new window)Click to email a link to a friend (Opens in new window)Click to print (Opens in new window)
URL:https://www.wssysa.org/event/wssysa-topper-traveller-5/
LOCATION:Arun Yacht Club\, Riverside West\, Littlehampton\, West Sussex\, BN17 5DL\, United Kingdom
END:VEVENT
BEGIN:VEVENT
DTSTART;VALUE=DATE:20180721
DTEND;VALUE=DATE:20180722
DTSTAMP:20260425T114106
CREATED:20180411T114315Z
LAST-MODIFIED:20180712T094555Z
UID:1316-1532131200-1532217599@www.wssysa.org
SUMMARY:WSSYSA Topper Traveller #4 - Felpham
DESCRIPTION:Notice of Race: http://felphamsailingclub.co.uk/racing/2018-open-meetings/ \nShare this:Click to share on Facebook (Opens in new window)Click to share on Twitter (Opens in new window)Click to email a link to a friend (Opens in new window)Click to print (Opens in new window)
URL:https://www.wssysa.org/event/wssysa-topper-traveller-4/
LOCATION:Felpham Sailing Club\, Blakes Road\, Felpham\, West Sussex\, PO22 7EE\, United Kingdom
END:VEVENT
BEGIN:VEVENT
DTSTART;VALUE=DATE:20180707
DTEND;VALUE=DATE:20180708
DTSTAMP:20260425T114106
CREATED:20180411T114225Z
LAST-MODIFIED:20180703T063301Z
UID:1314-1530921600-1531007999@www.wssysa.org
SUMMARY:WSSYSA Topper Traveller #3- Lancing
DESCRIPTION:Sailing Instructions: Lancing Topper Traveller 7th July SIs \nShare this:Click to share on Facebook (Opens in new window)Click to share on Twitter (Opens in new window)Click to email a link to a friend (Opens in new window)Click to print (Opens in new window)
URL:https://www.wssysa.org/event/wssysa-topper-traveller-3/
LOCATION:Lancing Sailing Club\, Shopsdam Road\, Lancing\, West Sussex\, BN15 8ES\, United Kingdom
END:VEVENT
BEGIN:VEVENT
DTSTART;VALUE=DATE:20180624
DTEND;VALUE=DATE:20180625
DTSTAMP:20260425T114106
CREATED:20180411T114127Z
LAST-MODIFIED:20180612T081443Z
UID:1312-1529798400-1529884799@www.wssysa.org
SUMMARY:WSSYSA Topper Traveller #2 - AYAC - POSTPONED
DESCRIPTION:Please note that this event has been postponed\, pending late-running civil engineering works on site. If an alternative date for this event is found\, this page will be updated. Thank you \nShare this:Click to share on Facebook (Opens in new window)Click to share on Twitter (Opens in new window)Click to email a link to a friend (Opens in new window)Click to print (Opens in new window)
URL:https://www.wssysa.org/event/wssysa-topper-traveller-2/
LOCATION:Arun Youth Aqua Centre\, Hendon Avenue\, Littlehampton\, West Sussex\, BN16 2NB\, United Kingdom
END:VEVENT
BEGIN:VEVENT
DTSTART;VALUE=DATE:20180602
DTEND;VALUE=DATE:20180603
DTSTAMP:20260425T114106
CREATED:20180411T114024Z
LAST-MODIFIED:20180503T102959Z
UID:1310-1527897600-1527983999@www.wssysa.org
SUMMARY:WSSYSA Topper Traveller #1 - West Wittering
DESCRIPTION:Share this:Click to share on Facebook (Opens in new window)Click to share on Twitter (Opens in new window)Click to email a link to a friend (Opens in new window)Click to print (Opens in new window)
URL:https://www.wssysa.org/event/wssysa-topper-traveller-1/
LOCATION:West Wittering Sailing Club
END:VEVENT
BEGIN:VEVENT
DTSTART;VALUE=DATE:20170909
DTEND;VALUE=DATE:20170911
DTSTAMP:20260425T114106
CREATED:20170705T133815Z
LAST-MODIFIED:20180413T233037Z
UID:1216-1504915200-1505087999@www.wssysa.org
SUMMARY:WSSYSA Regatta 2017
DESCRIPTION:The Notice of Race and Sailing Instructions are linked below\, with the application form to follow \nWSSYSA 2017 – Sailing Instructions \nWSSYSA 2017 – Notice of Race \nWSSYSA 2017 – Poster \nShare this:Click to share on Facebook (Opens in new window)Click to share on Twitter (Opens in new window)Click to email a link to a friend (Opens in new window)Click to print (Opens in new window)
URL:https://www.wssysa.org/event/wssysa-regatta-2017/
LOCATION:Dell Quay Sailing Club\, Dell Quay\, Chichester\, West Sussex\, PO20 7EE\, United Kingdom
CATEGORIES:Regatta
END:VEVENT
END:VCALENDAR