BEGIN:VCALENDAR
VERSION:2.0
PRODID:-//WSSYSA.ORG - ECPv6.1.4//NONSGML v1.0//EN
CALSCALE:GREGORIAN
METHOD:PUBLISH
X-WR-CALNAME:WSSYSA.ORG
X-ORIGINAL-URL:https://www.wssysa.org
X-WR-CALDESC:Events for WSSYSA.ORG
REFRESH-INTERVAL;VALUE=DURATION:PT1H
X-Robots-Tag:noindex
X-PUBLISHED-TTL:PT1H
BEGIN:VTIMEZONE
TZID:Europe/London
BEGIN:DAYLIGHT
TZOFFSETFROM:+0000
TZOFFSETTO:+0100
TZNAME:BST
DTSTART:20150329T010000
END:DAYLIGHT
BEGIN:STANDARD
TZOFFSETFROM:+0100
TZOFFSETTO:+0000
TZNAME:GMT
DTSTART:20151025T010000
END:STANDARD
BEGIN:DAYLIGHT
TZOFFSETFROM:+0000
TZOFFSETTO:+0100
TZNAME:BST
DTSTART:20160327T010000
END:DAYLIGHT
BEGIN:STANDARD
TZOFFSETFROM:+0100
TZOFFSETTO:+0000
TZNAME:GMT
DTSTART:20161030T010000
END:STANDARD
BEGIN:DAYLIGHT
TZOFFSETFROM:+0000
TZOFFSETTO:+0100
TZNAME:BST
DTSTART:20170326T010000
END:DAYLIGHT
BEGIN:STANDARD
TZOFFSETFROM:+0100
TZOFFSETTO:+0000
TZNAME:GMT
DTSTART:20171029T010000
END:STANDARD
BEGIN:DAYLIGHT
TZOFFSETFROM:+0000
TZOFFSETTO:+0100
TZNAME:BST
DTSTART:20180325T010000
END:DAYLIGHT
BEGIN:STANDARD
TZOFFSETFROM:+0100
TZOFFSETTO:+0000
TZNAME:GMT
DTSTART:20181028T010000
END:STANDARD
END:VTIMEZONE
BEGIN:VEVENT
DTSTART;VALUE=DATE:20180602
DTEND;VALUE=DATE:20180603
DTSTAMP:20260424T165034
CREATED:20180411T114024Z
LAST-MODIFIED:20180503T102959Z
UID:1310-1527897600-1527983999@www.wssysa.org
SUMMARY:WSSYSA Topper Traveller #1 - West Wittering
DESCRIPTION:Share this:Click to share on Facebook (Opens in new window)Click to share on Twitter (Opens in new window)Click to email a link to a friend (Opens in new window)Click to print (Opens in new window)
URL:https://www.wssysa.org/event/wssysa-topper-traveller-1/
LOCATION:West Wittering Sailing Club
END:VEVENT
BEGIN:VEVENT
DTSTART;VALUE=DATE:20170909
DTEND;VALUE=DATE:20170911
DTSTAMP:20260424T165034
CREATED:20170705T133815Z
LAST-MODIFIED:20180413T233037Z
UID:1216-1504915200-1505087999@www.wssysa.org
SUMMARY:WSSYSA Regatta 2017
DESCRIPTION:The Notice of Race and Sailing Instructions are linked below\, with the application form to follow \nWSSYSA 2017 – Sailing Instructions \nWSSYSA 2017 – Notice of Race \nWSSYSA 2017 – Poster \nShare this:Click to share on Facebook (Opens in new window)Click to share on Twitter (Opens in new window)Click to email a link to a friend (Opens in new window)Click to print (Opens in new window)
URL:https://www.wssysa.org/event/wssysa-regatta-2017/
LOCATION:Dell Quay Sailing Club\, Dell Quay\, Chichester\, West Sussex\, PO20 7EE\, United Kingdom
CATEGORIES:Regatta
END:VEVENT
BEGIN:VEVENT
DTSTART;VALUE=DATE:20170730
DTEND;VALUE=DATE:20170731
DTSTAMP:20260424T165034
CREATED:20170705T134413Z
LAST-MODIFIED:20170713T113005Z
UID:1220-1501372800-1501459199@www.wssysa.org
SUMMARY:Topper Traveller @ Arun YC
DESCRIPTION:We look forward to welcoming you to Arun YC for our Topper Traveller event. Please note that the Topper Traveller event will be run as a separate start within a larger open dinghy regatta – if you’re not a Topper sailor but want to participate in another monohull dinghy you’ll be very welcome! \nThe schedule is as follows:\n08.30 – Registration (until 10.00)\n09.45 – Briefing for competitors\n10.55 – First warning signal scheduled\n11.00 – Race 1 \nIt is scheduled to sail four races; no warning signal after 14.30 \nThe event is open to both 5.3 m2 and 4.2m2 Toppers \nFor safety purposes\, each boat shall carry at all times while afloat a tow line of not less than 10 m in length and 8 mm in diameter. \nThe entry fee is £10 per boat sailed by adults and £5 per boat sailed exclusively by Cadets. \nThe Notice of Race and Sailing Instructions are attached. \n2017 AYC Dinghy Regatta SIs final \n2017 AYC Dinghy Regatta NOR final \nShare this:Click to share on Facebook (Opens in new window)Click to share on Twitter (Opens in new window)Click to email a link to a friend (Opens in new window)Click to print (Opens in new window)
URL:https://www.wssysa.org/event/topper-traveller-series-ayc/
LOCATION:Arun Yacht Club\, Riverside West\, Littlehampton\, West Sussex\, BN17 5DL\, United Kingdom
CATEGORIES:Topper Traveller
END:VEVENT
BEGIN:VEVENT
DTSTART;VALUE=DATE:20170716
DTEND;VALUE=DATE:20170717
DTSTAMP:20260424T165034
CREATED:20170705T154302Z
LAST-MODIFIED:20170705T155011Z
UID:1225-1500163200-1500249599@www.wssysa.org
SUMMARY:Topper Travellers Event at AYAC on Sunday 16th July 2017
DESCRIPTION:Travellers @ AYAC 2017 Poster \nShare this:Click to share on Facebook (Opens in new window)Click to share on Twitter (Opens in new window)Click to email a link to a friend (Opens in new window)Click to print (Opens in new window)
URL:https://www.wssysa.org/event/topper-travellers-event-at-ayac-on-sunday-16th-july-2017/
LOCATION:Arun Youth Aqua Centre\, Hendon Avenue\, Littlehampton\, West Sussex\, BN16 2NB\, United Kingdom
END:VEVENT
BEGIN:VEVENT
DTSTART;TZID=Europe/London:20161024T080000
DTEND;TZID=Europe/London:20161028T170000
DTSTAMP:20260424T165034
CREATED:20150909T110706Z
LAST-MODIFIED:20151223T140532Z
UID:1105-1477296000-1477674000@www.wssysa.org
SUMMARY:RYA Dinghy Instructor Course
DESCRIPTION:Share this:Click to share on Facebook (Opens in new window)Click to share on Twitter (Opens in new window)Click to email a link to a friend (Opens in new window)Click to print (Opens in new window)
URL:https://www.wssysa.org/event/rya-dinghy-instructor-course/
LOCATION:Chichester Harbour
END:VEVENT
BEGIN:VEVENT
DTSTART;TZID=Europe/London:20161001T080000
DTEND;TZID=Europe/London:20161002T170000
DTSTAMP:20260424T165034
CREATED:20150909T111244Z
LAST-MODIFIED:20160829T181705Z
UID:1108-1475308800-1475427600@www.wssysa.org
SUMMARY:WSSYSA Regatta 2016
DESCRIPTION:This year’s Regatta will be hosted by Chichester Yacht Club. For the first time we are introducing a Rookie Fleet to our regatta\, so there are even more opportunities for sailors at every club to get involved. \n  \nDocuments will be posted below as they become available: \nWSSYSA 2016 Entry Form \nWSSYSA 2016 NoR \nWSSYSA 2016 SIs \nShare this:Click to share on Facebook (Opens in new window)Click to share on Twitter (Opens in new window)Click to email a link to a friend (Opens in new window)Click to print (Opens in new window)
URL:https://www.wssysa.org/event/wssysa-regatta-2016/
LOCATION:Chichester Yacht Club\, Chichester\, PO20 7EJ
END:VEVENT
BEGIN:VEVENT
DTSTART;VALUE=DATE:20160827
DTEND;VALUE=DATE:20160828
DTSTAMP:20260424T165034
CREATED:20150909T122202Z
LAST-MODIFIED:20160820T164249Z
UID:1115-1472256000-1472342399@www.wssysa.org
SUMMARY:WSSYSA Traveller 6: Shoreham
DESCRIPTION:With prizegiving(!) \nPlease click here for the Notice of Race \nShare this:Click to share on Facebook (Opens in new window)Click to share on Twitter (Opens in new window)Click to email a link to a friend (Opens in new window)Click to print (Opens in new window)
URL:https://www.wssysa.org/event/wssysa-traveller-6-shoreham/
LOCATION:Shoreham Sailing Club\,  Soldiers Point\, 223 Harbour Way\, Shoreham-by-Sea\, West Sussex\, BN43 5HZ\, United Kingdom
END:VEVENT
BEGIN:VEVENT
DTSTART;VALUE=DATE:20160814
DTEND;VALUE=DATE:20160815
DTSTAMP:20260424T165035
CREATED:20150909T123708Z
LAST-MODIFIED:20150909T123708Z
UID:1119-1471132800-1471219199@www.wssysa.org
SUMMARY:WSSYSA Inland Race Coaching Day
DESCRIPTION:Provisional date \nShare this:Click to share on Facebook (Opens in new window)Click to share on Twitter (Opens in new window)Click to email a link to a friend (Opens in new window)Click to print (Opens in new window)
URL:https://www.wssysa.org/event/wssysa-inland-race-coaching-day/
LOCATION:Crawley Mariners Yacht Club\, Lake View Rd\, East Grinstead\, West Sussex\, RH19 2QE\, United Kingdom
END:VEVENT
BEGIN:VEVENT
DTSTART;VALUE=DATE:20160813
DTEND;VALUE=DATE:20160814
DTSTAMP:20260424T165035
CREATED:20150909T122047Z
LAST-MODIFIED:20150909T122047Z
UID:1114-1471046400-1471132799@www.wssysa.org
SUMMARY:WSSYSA Traveller 5: Arun
DESCRIPTION:Share this:Click to share on Facebook (Opens in new window)Click to share on Twitter (Opens in new window)Click to email a link to a friend (Opens in new window)Click to print (Opens in new window)
URL:https://www.wssysa.org/event/wssysa-traveller-5-arun/
LOCATION:Arun Yacht Club\, Riverside West\, Littlehampton\, West Sussex\, BN17 5DL\, United Kingdom
END:VEVENT
BEGIN:VEVENT
DTSTART;VALUE=DATE:20160723
DTEND;VALUE=DATE:20160724
DTSTAMP:20260424T165035
CREATED:20150909T121906Z
LAST-MODIFIED:20150909T121906Z
UID:1113-1469232000-1469318399@www.wssysa.org
SUMMARY:WSSYSA Traveller 4: Dell Quay
DESCRIPTION:Share this:Click to share on Facebook (Opens in new window)Click to share on Twitter (Opens in new window)Click to email a link to a friend (Opens in new window)Click to print (Opens in new window)
URL:https://www.wssysa.org/event/wssysa-traveller-4-dell-quay/
LOCATION:Dell Quay Sailing Club\, Dell Quay\, Chichester\, West Sussex\, PO20 7EE\, United Kingdom
END:VEVENT
BEGIN:VEVENT
DTSTART;VALUE=DATE:20160710
DTEND;VALUE=DATE:20160711
DTSTAMP:20260424T165035
CREATED:20150909T121805Z
LAST-MODIFIED:20151223T141459Z
UID:1112-1468108800-1468195199@www.wssysa.org
SUMMARY:WSSYSA Traveller 3: AYAC
DESCRIPTION:Share this:Click to share on Facebook (Opens in new window)Click to share on Twitter (Opens in new window)Click to email a link to a friend (Opens in new window)Click to print (Opens in new window)
URL:https://www.wssysa.org/event/wssysa-traveller-3-ayac/
LOCATION:Arun Youth Aqua Centre\, Hendon Avenue\, Littlehampton\, West Sussex\, BN16 2NB\, United Kingdom
END:VEVENT
BEGIN:VEVENT
DTSTART;VALUE=DATE:20160626
DTEND;VALUE=DATE:20160627
DTSTAMP:20260424T165035
CREATED:20150909T123430Z
LAST-MODIFIED:20150909T123430Z
UID:1118-1466899200-1466985599@www.wssysa.org
SUMMARY:WSSYSA Harbour Race Coaching Day
DESCRIPTION:Share this:Click to share on Facebook (Opens in new window)Click to share on Twitter (Opens in new window)Click to email a link to a friend (Opens in new window)Click to print (Opens in new window)
URL:https://www.wssysa.org/event/wssysa-harbour-race-coaching-day/
LOCATION:To be confirmed\, The Quay\, Bosham\, West Sussex\, PO18 8LU\, United Kingdom
END:VEVENT
BEGIN:VEVENT
DTSTART;VALUE=DATE:20160618
DTEND;VALUE=DATE:20160619
DTSTAMP:20260424T165035
CREATED:20150909T121433Z
LAST-MODIFIED:20160616T082519Z
UID:1111-1466208000-1466294399@www.wssysa.org
SUMMARY:WSSYSA Traveller 2: Felpham
DESCRIPTION:Regatta is planned for 3 races with a 30 mins duration starting approx 13:00 with briefing for sailors at 12:00.\n\n\n \nNotice of Race – Click to open the PDF document\nShare this:Click to share on Facebook (Opens in new window)Click to share on Twitter (Opens in new window)Click to email a link to a friend (Opens in new window)Click to print (Opens in new window)
URL:https://www.wssysa.org/event/felpham-traveller/
LOCATION:Felpham Sailing Club\, Blakes Road\, Felpham\, West Sussex\, PO22 7EE\, United Kingdom
END:VEVENT
BEGIN:VEVENT
DTSTART;VALUE=DATE:20160605
DTEND;VALUE=DATE:20160606
DTSTAMP:20260424T165035
CREATED:20150909T121326Z
LAST-MODIFIED:20151223T140742Z
UID:1110-1465084800-1465171199@www.wssysa.org
SUMMARY:WSSYSA Traveller 1: West Wittering
DESCRIPTION:Share this:Click to share on Facebook (Opens in new window)Click to share on Twitter (Opens in new window)Click to email a link to a friend (Opens in new window)Click to print (Opens in new window)
URL:https://www.wssysa.org/event/west-wittering-traveller/
LOCATION:West Wittering Sailing Club
END:VEVENT
BEGIN:VEVENT
DTSTART;VALUE=DATE:20160521
DTEND;VALUE=DATE:20160522
DTSTAMP:20260424T165035
CREATED:20150909T123318Z
LAST-MODIFIED:20150909T123318Z
UID:1117-1463788800-1463875199@www.wssysa.org
SUMMARY:WSSYSA Coastal Race Coaching Day
DESCRIPTION:Provisional date \nShare this:Click to share on Facebook (Opens in new window)Click to share on Twitter (Opens in new window)Click to email a link to a friend (Opens in new window)Click to print (Opens in new window)
URL:https://www.wssysa.org/event/wssysa-coastal-race-coaching-day/
LOCATION:Felpham Sailing Club\, Blakes Road\, Felpham\, West Sussex\, PO22 7EE\, United Kingdom
END:VEVENT
BEGIN:VEVENT
DTSTART;VALUE=DATE:20160508
DTEND;VALUE=DATE:20160509
DTSTAMP:20260424T165035
CREATED:20150909T123048Z
LAST-MODIFIED:20150909T123048Z
UID:1116-1462665600-1462751999@www.wssysa.org
SUMMARY:WSSYSA Double-Handed Team Racing
DESCRIPTION:Provisional date \nShare this:Click to share on Facebook (Opens in new window)Click to share on Twitter (Opens in new window)Click to email a link to a friend (Opens in new window)Click to print (Opens in new window)
URL:https://www.wssysa.org/event/wssysa-double-handed-team-racing/
LOCATION:Crawley Mariners Yacht Club\, Lake View Rd\, East Grinstead\, West Sussex\, RH19 2QE\, United Kingdom
END:VEVENT
BEGIN:VEVENT
DTSTART;TZID=Europe/London:20160305T080000
DTEND;TZID=Europe/London:20160306T170000
DTSTAMP:20260424T165035
CREATED:20150909T110513Z
LAST-MODIFIED:20151223T141411Z
UID:1103-1457164800-1457283600@www.wssysa.org
SUMMARY:RYA Race Coach Level 2 Course
DESCRIPTION:Share this:Click to share on Facebook (Opens in new window)Click to share on Twitter (Opens in new window)Click to email a link to a friend (Opens in new window)Click to print (Opens in new window)
URL:https://www.wssysa.org/event/rya-race-coach-level-2-course/
LOCATION:Thorney Island Sailing Club\, Church Road\, Thorney Island\, Emsworth\, PO10 8DS
END:VEVENT
BEGIN:VEVENT
DTSTART;TZID=Europe/London:20160215T080000
DTEND;TZID=Europe/London:20160217T170000
DTSTAMP:20260424T165035
CREATED:20150909T110404Z
LAST-MODIFIED:20151223T141250Z
UID:1101-1455523200-1455728400@www.wssysa.org
SUMMARY:RYA Powerboat Instructor Course
DESCRIPTION:Share this:Click to share on Facebook (Opens in new window)Click to share on Twitter (Opens in new window)Click to email a link to a friend (Opens in new window)Click to print (Opens in new window)
URL:https://www.wssysa.org/event/rya-powerboat-instructor-course/
LOCATION:Thorney Island Sailing Club\, Church Road\, Thorney Island\, Emsworth\, PO10 8DS
END:VEVENT
BEGIN:VEVENT
DTSTART;TZID=Europe/London:20160213T080000
DTEND;TZID=Europe/London:20160221T170000
DTSTAMP:20260424T165035
CREATED:20150909T110305Z
LAST-MODIFIED:20160116T120814Z
UID:1099-1455350400-1456074000@www.wssysa.org
SUMMARY:RYA Senior Instructor Course
DESCRIPTION:This course will be run over two weekends at a venue in Chichester Harbour. The dates are February 13th and 14th\, 20th and 21st. All queries should be directed to Matthew Wright. \nSI Course Info and application \nShare this:Click to share on Facebook (Opens in new window)Click to share on Twitter (Opens in new window)Click to email a link to a friend (Opens in new window)Click to print (Opens in new window)
URL:https://www.wssysa.org/event/rya-senior-instructor-course/
LOCATION:Chichester Harbour
END:VEVENT
BEGIN:VEVENT
DTSTART;VALUE=DATE:20160213
DTEND;VALUE=DATE:20160214
DTSTAMP:20260424T165035
CREATED:20150909T111054Z
LAST-MODIFIED:20160212T154848Z
UID:1107-1455321600-1455407999@www.wssysa.org
SUMMARY:Young Sailors' Racing Rules Event and Winter Check-up
DESCRIPTION:Rules check-up flyer \nShare this:Click to share on Facebook (Opens in new window)Click to share on Twitter (Opens in new window)Click to email a link to a friend (Opens in new window)Click to print (Opens in new window)
URL:https://www.wssysa.org/event/young-sailors-racing-rules-event-and-winter-check-up/
LOCATION:Felpham Sailing Club\, Blakes Road\, Felpham\, West Sussex\, PO22 7EE\, United Kingdom
END:VEVENT
BEGIN:VEVENT
DTSTART;TZID=Europe/London:20150923T190000
DTEND;TZID=Europe/London:20150923T200000
DTSTAMP:20260424T165035
CREATED:20150901T162049Z
LAST-MODIFIED:20150901T162049Z
UID:1094-1443034800-1443038400@www.wssysa.org
SUMMARY:WSSYSA AGM
DESCRIPTION:Come along for the fun! \nShare this:Click to share on Facebook (Opens in new window)Click to share on Twitter (Opens in new window)Click to email a link to a friend (Opens in new window)Click to print (Opens in new window)
URL:https://www.wssysa.org/event/wssysa-agm/
LOCATION:Arun Yacht Club\, Riverside West\, Littlehampton\, West Sussex\, BN17 5DL\, United Kingdom
END:VEVENT
BEGIN:VEVENT
DTSTART;TZID=Europe/London:20150905T080000
DTEND;TZID=Europe/London:20150906T170000
DTSTAMP:20260424T165035
CREATED:20150309T221107Z
LAST-MODIFIED:20150901T145302Z
UID:1054-1441440000-1441558800@www.wssysa.org
SUMMARY:WSSYSA Regatta 2015
DESCRIPTION:Please click the links below for all the necessary paperwork for this year’s event: \nWSSYSA 2015 NoR \nWSSYSA 2015 Sailing Instructions \nwssysa ENTRY FORM 15 \nWSSYSA Regatta 2015 Course Diagrams \n\nFelpham Sailing Club Logistics \nGetting here. \nFelpham Sailing club is situated in Blake’s Road in the Village of Felpham near Bognor Regis\, (post code PO22 7EE) \nArrival  \nYou are more than welcome to drive right up to the club and unload your boats onto the promenade or into the club if there is space. Once unloaded there is limited parking in Blake’s road but there is a pay and display car park right behind the club accessed via Culver Road. There is another Pay and Disply Car Park behind St. Marys Church in the Village (about ½ mile away and one small free Car park\, there is a small free Car park down links Avenue off Felpham road in the Village\, about ¼ mile away. Once here please come into the club and register so we know you are here\, breakfast will be available. \nOther information \nWe will have plenty of help to launch and recover the boats at High tide\, this is always a worry for people who may have not sailed directly off the beach before\, so please do not worry about this. We can continue to sail even if we do get a stiff sea breeze. Having said this extra help from parents is always really appreciated. \nIf you are bringing other members of the family who are not sailing there is lots to do nearby\, just ask on the day and we can point you in the direction of things that might interest you. \nTea\, Coffee\, Cakes\, Ice creams etc. will be available to buy all weekend. \nT-Shirts \nT-Shirts and Hoodies featuring this year’s logo and all competitor’s names will be available to purchase for FineDesigns on Sunday \n  \nShare this:Click to share on Facebook (Opens in new window)Click to share on Twitter (Opens in new window)Click to email a link to a friend (Opens in new window)Click to print (Opens in new window)
URL:https://www.wssysa.org/event/wssysa-regatta-2015/
LOCATION:Felpham Sailing Club\, Blakes Road\, Felpham\, West Sussex\, PO22 7EE\, United Kingdom
END:VEVENT
BEGIN:VEVENT
DTSTART;VALUE=DATE:20150822
DTEND;VALUE=DATE:20150823
DTSTAMP:20260424T165035
CREATED:20150217T230056Z
LAST-MODIFIED:20150806T202050Z
UID:994-1440201600-1440287999@www.wssysa.org
SUMMARY:Topper Traveller: Event 6
DESCRIPTION:Please click the link below for the Notice of Race \nSSC 2015 Dinghy Cadet Regatta Notice of Race \nShare this:Click to share on Facebook (Opens in new window)Click to share on Twitter (Opens in new window)Click to email a link to a friend (Opens in new window)Click to print (Opens in new window)
URL:https://www.wssysa.org/event/topper-traveller-event-6/
LOCATION:Shoreham Sailing Club\,  Soldiers Point\, 223 Harbour Way\, Shoreham-by-Sea\, West Sussex\, BN43 5HZ\, United Kingdom
CATEGORIES:Topper Traveller
END:VEVENT
BEGIN:VEVENT
DTSTART;VALUE=DATE:20150808
DTEND;VALUE=DATE:20150809
DTSTAMP:20260424T165035
CREATED:20150217T235147Z
LAST-MODIFIED:20150715T131234Z
UID:1010-1438992000-1439078399@www.wssysa.org
SUMMARY:Topper Traveller:  Event 5
DESCRIPTION:Arun YC look forward to welcoming WSS Topper sailors to join in its 2015 Dinghy Open regatta on Saturday\, August 8th. Four races are scheduled to be completed off Littlehampton’s glorious West Beach. \nPaperwork: \nAYC 2015 Dinghy & Cadet Regatta Notice of Race \nShare this:Click to share on Facebook (Opens in new window)Click to share on Twitter (Opens in new window)Click to email a link to a friend (Opens in new window)Click to print (Opens in new window)
URL:https://www.wssysa.org/event/topper-traveller-event-5/
LOCATION:Arun Yacht Club\, Riverside West\, Littlehampton\, West Sussex\, BN17 5DL\, United Kingdom
CATEGORIES:Topper Traveller
END:VEVENT
BEGIN:VEVENT
DTSTART;VALUE=DATE:20150727
DTEND;VALUE=DATE:20150801
DTSTAMP:20260424T165035
CREATED:20150217T235601Z
LAST-MODIFIED:20150605T161928Z
UID:1011-1437955200-1438387199@www.wssysa.org
SUMMARY:NSSA Regatta
DESCRIPTION:Please click this link to be directed to the NSSA website for more information \nShare this:Click to share on Facebook (Opens in new window)Click to share on Twitter (Opens in new window)Click to email a link to a friend (Opens in new window)Click to print (Opens in new window)
URL:https://www.wssysa.org/event/nssa-regatta/
LOCATION:Rutland Sailing Club\, Gibbet Lane\, Edith Weston\, Oakham\, Rutland\, LE15 8HJ\, United Kingdom
CATEGORIES:Regatta
END:VEVENT
BEGIN:VEVENT
DTSTART;VALUE=DATE:20150726
DTEND;VALUE=DATE:20150727
DTSTAMP:20260424T165035
CREATED:20150217T234841Z
LAST-MODIFIED:20150715T130239Z
UID:1009-1437868800-1437955199@www.wssysa.org
SUMMARY:Topper Traveller: Event 4
DESCRIPTION:Event 4 of the Topper Traveller Series will take place at Felpham Sailing Club on July 26th. Four races will take place either side of lunch\, and the club is looking forward to welcoming WSS sailors to enjoy the facilities and fantastic sailing area. \nPaperwork: \nTopper open 2015 FSC fom NOTICE OF RACE \nTopper FSC fom SAILING INSTRUCTIONS 2015 \nShare this:Click to share on Facebook (Opens in new window)Click to share on Twitter (Opens in new window)Click to email a link to a friend (Opens in new window)Click to print (Opens in new window)
URL:https://www.wssysa.org/event/topper-traveller-event-4/
LOCATION:Felpham Sailing Club\, Blakes Road\, Felpham\, West Sussex\, PO22 7EE\, United Kingdom
CATEGORIES:Topper Traveller
END:VEVENT
BEGIN:VEVENT
DTSTART;VALUE=DATE:20150712
DTEND;VALUE=DATE:20150713
DTSTAMP:20260424T165035
CREATED:20150217T234428Z
LAST-MODIFIED:20150702T165145Z
UID:1008-1436659200-1436745599@www.wssysa.org
SUMMARY:Topper Traveller: Event 3
DESCRIPTION:AYAC look forward to welcoming West Sussex sailors to its third Topper Traveller event. This has always been a well supported event with a fantastic atmosphere\, suitable for newer racers and weathered-helms alike. \nPaperwork below: \nTopper Travellers Entry form A5 \nTopper Travellers @ AYAC Poster \nsailing instructions Topper Travellers 2015 \nNOR AYAC Topper Travellers 2015 \nShare this:Click to share on Facebook (Opens in new window)Click to share on Twitter (Opens in new window)Click to email a link to a friend (Opens in new window)Click to print (Opens in new window)
URL:https://www.wssysa.org/event/topper-traveller-event-3/
LOCATION:Arun Youth Aqua Centre\, Hendon Avenue\, Littlehampton\, West Sussex\, BN16 2NB\, United Kingdom
CATEGORIES:Topper Traveller
END:VEVENT
BEGIN:VEVENT
DTSTART;VALUE=DATE:20150705
DTEND;VALUE=DATE:20150706
DTSTAMP:20260424T165035
CREATED:20150217T234226Z
LAST-MODIFIED:20150218T082355Z
UID:1007-1436054400-1436140799@www.wssysa.org
SUMMARY:Topper Fun Day
DESCRIPTION:Details to follow. \nShare this:Click to share on Facebook (Opens in new window)Click to share on Twitter (Opens in new window)Click to email a link to a friend (Opens in new window)Click to print (Opens in new window)
URL:https://www.wssysa.org/event/topper-fun-day/
LOCATION:TBC
CATEGORIES:General,Training
END:VEVENT
BEGIN:VEVENT
DTSTART;VALUE=DATE:20150627
DTEND;VALUE=DATE:20150628
DTSTAMP:20260424T165035
CREATED:20150218T001455Z
LAST-MODIFIED:20150508T122718Z
UID:1014-1435363200-1435449599@www.wssysa.org
SUMMARY:Topper Traveller: Event 2
DESCRIPTION:Share this:Click to share on Facebook (Opens in new window)Click to share on Twitter (Opens in new window)Click to email a link to a friend (Opens in new window)Click to print (Opens in new window)
URL:https://www.wssysa.org/event/topper-traveller-event-2/
LOCATION:Lancing Sailing Club\, Shopsdam Road\, Lancing\, West Sussex\, BN15 8ES\, United Kingdom
CATEGORIES:Topper Traveller
END:VEVENT
BEGIN:VEVENT
DTSTART;VALUE=DATE:20150606
DTEND;VALUE=DATE:20150607
DTSTAMP:20260424T165035
CREATED:20150217T233711Z
LAST-MODIFIED:20150518T204442Z
UID:1006-1433548800-1433635199@www.wssysa.org
SUMMARY:Topper Traveller: Event 1
DESCRIPTION:Join us for the first of this year’s Topper Traveller Series at West Wittering SC on Saturday\, June 6th. We expect a bountiful turnout and champagne sailing conditions have been ordered. This is an ideal event for both the weathered helm and the early racer\, so don’t miss out. \nVenue: \nWWSC\, Coastguard Lane\, Snowhill\, West Wittering\, PO20 8AT. \nFollow signs to main beach car park\, just before cattle grid and gate turn right into Coastguard Lane (ignore no entry sign) Club is 50m up on left hand side. \nPaperwork below: \nWest Wittering Topper Travellers NOTICE OF RACE \nWWSC Topper Traveller ENTRY FORM \nWWSC Topper Traveller SAILING INSTRUCTIONS \nShare this:Click to share on Facebook (Opens in new window)Click to share on Twitter (Opens in new window)Click to email a link to a friend (Opens in new window)Click to print (Opens in new window)
URL:https://www.wssysa.org/event/topper-traveller-event-1/
LOCATION:West Wittering Sailing Club
CATEGORIES:Topper Traveller
END:VEVENT
END:VCALENDAR