BEGIN:VCALENDAR
VERSION:2.0
PRODID:-//WSSYSA.ORG - ECPv6.1.4//NONSGML v1.0//EN
CALSCALE:GREGORIAN
METHOD:PUBLISH
X-WR-CALNAME:WSSYSA.ORG
X-ORIGINAL-URL:https://www.wssysa.org
X-WR-CALDESC:Events for WSSYSA.ORG
REFRESH-INTERVAL;VALUE=DURATION:PT1H
X-Robots-Tag:noindex
X-PUBLISHED-TTL:PT1H
BEGIN:VTIMEZONE
TZID:Europe/London
BEGIN:DAYLIGHT
TZOFFSETFROM:+0000
TZOFFSETTO:+0100
TZNAME:BST
DTSTART:20140330T010000
END:DAYLIGHT
BEGIN:STANDARD
TZOFFSETFROM:+0100
TZOFFSETTO:+0000
TZNAME:GMT
DTSTART:20141026T010000
END:STANDARD
END:VTIMEZONE
BEGIN:VEVENT
DTSTART;VALUE=DATE:20140713
DTEND;VALUE=DATE:20140714
DTSTAMP:20260425T172407
CREATED:20150218T210325Z
LAST-MODIFIED:20150218T210325Z
UID:1037-1405209600-1405295999@www.wssysa.org
SUMMARY:Topper Traveller Series Event 3
DESCRIPTION:Share this:Click to share on Facebook (Opens in new window)Click to share on Twitter (Opens in new window)Click to email a link to a friend (Opens in new window)Click to print (Opens in new window)
URL:https://www.wssysa.org/event/topper-traveller-series-event-3-2/
LOCATION:Arun Yacht Club\, Riverside West\, Littlehampton\, West Sussex\, BN17 5DL\, United Kingdom
END:VEVENT
BEGIN:VEVENT
DTSTART;VALUE=DATE:20140706
DTEND;VALUE=DATE:20140707
DTSTAMP:20260425T172407
CREATED:20150218T210325Z
LAST-MODIFIED:20150218T210325Z
UID:1036-1404604800-1404691199@www.wssysa.org
SUMMARY:Topper Fun Day
DESCRIPTION:Share this:Click to share on Facebook (Opens in new window)Click to share on Twitter (Opens in new window)Click to email a link to a friend (Opens in new window)Click to print (Opens in new window)
URL:https://www.wssysa.org/event/topper-fun-day-3/
LOCATION:Ardingly Activity Centre\, The Lodge\, Ardingly Reservoir\, Ardingly\, West Sussex\, RH17 6SQ\, United Kingdom
END:VEVENT
BEGIN:VEVENT
DTSTART;VALUE=DATE:20140629
DTEND;VALUE=DATE:20140630
DTSTAMP:20260425T172407
CREATED:20150218T210325Z
LAST-MODIFIED:20150218T210325Z
UID:1035-1404000000-1404086399@www.wssysa.org
SUMMARY:Feva Team Racing Event 3
DESCRIPTION:Share this:Click to share on Facebook (Opens in new window)Click to share on Twitter (Opens in new window)Click to email a link to a friend (Opens in new window)Click to print (Opens in new window)
URL:https://www.wssysa.org/event/feva-team-racing-event-3-2/
LOCATION:Arun Yacht Club\, Riverside West\, Littlehampton\, West Sussex\, BN17 5DL\, United Kingdom
END:VEVENT
BEGIN:VEVENT
DTSTART;VALUE=DATE:20140621
DTEND;VALUE=DATE:20140622
DTSTAMP:20260425T172407
CREATED:20150218T210324Z
LAST-MODIFIED:20150218T210324Z
UID:1034-1403308800-1403395199@www.wssysa.org
SUMMARY:Topper Traveller Series Event 2
DESCRIPTION:Share this:Click to share on Facebook (Opens in new window)Click to share on Twitter (Opens in new window)Click to email a link to a friend (Opens in new window)Click to print (Opens in new window)
URL:https://www.wssysa.org/event/topper-traveller-series-event-2-2/
LOCATION:Lancing Sailing Club\, Shopsdam Road\, Lancing\, West Sussex\, BN15 8ES\, United Kingdom
END:VEVENT
BEGIN:VEVENT
DTSTART;VALUE=DATE:20140615
DTEND;VALUE=DATE:20140616
DTSTAMP:20260425T172407
CREATED:20150218T210324Z
LAST-MODIFIED:20150218T210324Z
UID:1033-1402790400-1402876799@www.wssysa.org
SUMMARY:Topper Traveller Series Event 1
DESCRIPTION:Share this:Click to share on Facebook (Opens in new window)Click to share on Twitter (Opens in new window)Click to email a link to a friend (Opens in new window)Click to print (Opens in new window)
URL:https://www.wssysa.org/event/topper-traveller-series-event-1-2/
LOCATION:Dell Quay Sailing Club\, Dell Quay\, Chichester\, West Sussex\, PO20 7EE\, United Kingdom
END:VEVENT
BEGIN:VEVENT
DTSTART;VALUE=DATE:20140607
DTEND;VALUE=DATE:20140608
DTSTAMP:20260425T172407
CREATED:20150218T210112Z
LAST-MODIFIED:20150218T210112Z
UID:1024-1402099200-1402185599@www.wssysa.org
SUMMARY:Topper Fun Day
DESCRIPTION:Share this:Click to share on Facebook (Opens in new window)Click to share on Twitter (Opens in new window)Click to email a link to a friend (Opens in new window)Click to print (Opens in new window)
URL:https://www.wssysa.org/event/topper-fun-day-2/
LOCATION:Ardingly Activity Centre\, The Lodge\, Ardingly Reservoir\, Ardingly\, West Sussex\, RH17 6SQ\, United Kingdom
END:VEVENT
BEGIN:VEVENT
DTSTART;VALUE=DATE:20140517
DTEND;VALUE=DATE:20140518
DTSTAMP:20260425T172407
CREATED:20150218T210324Z
LAST-MODIFIED:20150218T210324Z
UID:1032-1400284800-1400371199@www.wssysa.org
SUMMARY:Feva Team Racing Event 2
DESCRIPTION:Share this:Click to share on Facebook (Opens in new window)Click to share on Twitter (Opens in new window)Click to email a link to a friend (Opens in new window)Click to print (Opens in new window)
URL:https://www.wssysa.org/event/feva-team-racing-event-2-2/
LOCATION:Dell Quay Sailing Club\, Dell Quay\, Chichester\, West Sussex\, PO20 7EE\, United Kingdom
END:VEVENT
BEGIN:VEVENT
DTSTART;VALUE=DATE:20140510
DTEND;VALUE=DATE:20140511
DTSTAMP:20260425T172407
CREATED:20150218T210323Z
LAST-MODIFIED:20150218T210323Z
UID:1031-1399680000-1399766399@www.wssysa.org
SUMMARY:How to Run a Team Racing Event
DESCRIPTION:Share this:Click to share on Facebook (Opens in new window)Click to share on Twitter (Opens in new window)Click to email a link to a friend (Opens in new window)Click to print (Opens in new window)
URL:https://www.wssysa.org/event/how-to-run-a-team-racing-event-2/
LOCATION:Cobnor Activities Centre Trust\, Cobnor Point\, Chidham\, Chichester\, West Sussex\, PO18 8TE\, United Kingdom
END:VEVENT
BEGIN:VEVENT
DTSTART;VALUE=DATE:20140208
DTEND;VALUE=DATE:20140209
DTSTAMP:20260425T172407
CREATED:20150218T210113Z
LAST-MODIFIED:20150218T210113Z
UID:1028-1391817600-1391903999@www.wssysa.org
SUMMARY:Topper Traveller Series Event 4
DESCRIPTION:Share this:Click to share on Facebook (Opens in new window)Click to share on Twitter (Opens in new window)Click to email a link to a friend (Opens in new window)Click to print (Opens in new window)
URL:https://www.wssysa.org/event/topper-traveller-series-event-4/
LOCATION:Felpham Sailing Club\, Blakes Road\, Felpham\, West Sussex\, PO22 7EE\, United Kingdom
END:VEVENT
END:VCALENDAR